BEGIN:VCALENDAR
VERSION:2.0
PRODID:-//mIA | Cultura - ECPv6.15.13.1//NONSGML v1.0//EN
CALSCALE:GREGORIAN
METHOD:PUBLISH
X-WR-CALNAME:mIA | Cultura
X-ORIGINAL-URL:http://cultura.intendentealvear.gob.ar
X-WR-CALDESC:Eventos para mIA | Cultura
REFRESH-INTERVAL;VALUE=DURATION:PT1H
X-Robots-Tag:noindex
X-PUBLISHED-TTL:PT1H
BEGIN:VTIMEZONE
TZID:America/Sao_Paulo
BEGIN:STANDARD
TZOFFSETFROM:-0200
TZOFFSETTO:-0300
TZNAME:-03
DTSTART:20190217T020000
END:STANDARD
END:VTIMEZONE
BEGIN:VEVENT
DTSTART;TZID=America/Sao_Paulo:20200711T103000
DTEND;TZID=America/Sao_Paulo:20200711T123000
DTSTAMP:20260425T105028
CREATED:20200706T202845Z
LAST-MODIFIED:20200706T210759Z
UID:3651-1594463400-1594470600@cultura.intendentealvear.gob.ar
SUMMARY:Ferrocarril Oeste cumple 100 años!
DESCRIPTION:El club Ferro Carril Oeste de Intendente Alvear cumple 100 años\, ¡y los festeja con todo!
URL:http://cultura.intendentealvear.gob.ar/evento/fco-cumple-100-anos/
CATEGORIES:Deportes
ATTACH;FMTTYPE=image/jpeg:http://cultura.intendentealvear.gob.ar/wp-content/uploads/2020/07/FCO-scaled.jpg
END:VEVENT
END:VCALENDAR